BEGIN:VCALENDAR
VERSION:2.0
PRODID:-//The Staircase - ECPv6.15.20//NONSGML v1.0//EN
CALSCALE:GREGORIAN
METHOD:PUBLISH
X-ORIGINAL-URL:https://staircasehamilton.com
X-WR-CALDESC:Events for The Staircase
REFRESH-INTERVAL;VALUE=DURATION:PT1H
X-Robots-Tag:noindex
X-PUBLISHED-TTL:PT1H
BEGIN:VTIMEZONE
TZID:America/Toronto
BEGIN:DAYLIGHT
TZOFFSETFROM:-0500
TZOFFSETTO:-0400
TZNAME:EDT
DTSTART:20280312T070000
END:DAYLIGHT
BEGIN:STANDARD
TZOFFSETFROM:-0400
TZOFFSETTO:-0500
TZNAME:EST
DTSTART:20281105T060000
END:STANDARD
BEGIN:DAYLIGHT
TZOFFSETFROM:-0500
TZOFFSETTO:-0400
TZNAME:EDT
DTSTART:20290311T070000
END:DAYLIGHT
BEGIN:STANDARD
TZOFFSETFROM:-0400
TZOFFSETTO:-0500
TZNAME:EST
DTSTART:20291104T060000
END:STANDARD
BEGIN:DAYLIGHT
TZOFFSETFROM:-0500
TZOFFSETTO:-0400
TZNAME:EDT
DTSTART:20300310T070000
END:DAYLIGHT
BEGIN:STANDARD
TZOFFSETFROM:-0400
TZOFFSETTO:-0500
TZNAME:EST
DTSTART:20301103T060000
END:STANDARD
BEGIN:DAYLIGHT
TZOFFSETFROM:-0500
TZOFFSETTO:-0400
TZNAME:EDT
DTSTART:20310309T070000
END:DAYLIGHT
BEGIN:STANDARD
TZOFFSETFROM:-0400
TZOFFSETTO:-0500
TZNAME:EST
DTSTART:20311102T060000
END:STANDARD
END:VTIMEZONE
BEGIN:VEVENT
DTSTART;TZID=America/Toronto:20290531T190000
DTEND;TZID=America/Toronto:20290531T210000
DTSTAMP:20260424T103022
CREATED:20240816T145937Z
LAST-MODIFIED:20251214T162614Z
UID:10002979-1874948400-1874955600@staircasehamilton.com
SUMMARY:LOUNGE: Coder Camp
DESCRIPTION:CoderCamp Hamilton is a monthly meetup / mini-conference for local software developers to learn tools\, techniques\, and technologies from one another in a casual and friendly setting. We meet to talk about coding\, software development\, and technology to learn from each other and get better at what we do in the process. \nIt runs the last Thursday of every month. \nMORE INFO: https://www.codercamphamilton.com/
URL:https://staircasehamilton.com/event/lounge-coder-camp/2029-05-31/
LOCATION:The Staircase – Studio Theatre\, 27 Dundurn Street North\, Hamilton\, Ontario\, L8R 3C9\, Canada
ORGANIZER;CN="The Staircase":MAILTO:info@staircasehamilton.com
GEO:43.2631954;-79.8877378
X-APPLE-STRUCTURED-LOCATION;VALUE=URI;X-ADDRESS=The Staircase – Studio Theatre 27 Dundurn Street North Hamilton Ontario L8R 3C9 Canada;X-APPLE-RADIUS=500;X-TITLE=27 Dundurn Street North:geo:-79.8877378,43.2631954
END:VEVENT
BEGIN:VEVENT
DTSTART;TZID=America/Toronto:20290628T190000
DTEND;TZID=America/Toronto:20290628T210000
DTSTAMP:20260424T103022
CREATED:20240816T145937Z
LAST-MODIFIED:20251214T162614Z
UID:10002980-1877367600-1877374800@staircasehamilton.com
SUMMARY:LOUNGE: Coder Camp
DESCRIPTION:CoderCamp Hamilton is a monthly meetup / mini-conference for local software developers to learn tools\, techniques\, and technologies from one another in a casual and friendly setting. We meet to talk about coding\, software development\, and technology to learn from each other and get better at what we do in the process. \nIt runs the last Thursday of every month. \nMORE INFO: https://www.codercamphamilton.com/
URL:https://staircasehamilton.com/event/lounge-coder-camp/2029-06-28/
LOCATION:The Staircase – Studio Theatre\, 27 Dundurn Street North\, Hamilton\, Ontario\, L8R 3C9\, Canada
ORGANIZER;CN="The Staircase":MAILTO:info@staircasehamilton.com
GEO:43.2631954;-79.8877378
X-APPLE-STRUCTURED-LOCATION;VALUE=URI;X-ADDRESS=The Staircase – Studio Theatre 27 Dundurn Street North Hamilton Ontario L8R 3C9 Canada;X-APPLE-RADIUS=500;X-TITLE=27 Dundurn Street North:geo:-79.8877378,43.2631954
END:VEVENT
BEGIN:VEVENT
DTSTART;TZID=America/Toronto:20290726T190000
DTEND;TZID=America/Toronto:20290726T210000
DTSTAMP:20260424T103022
CREATED:20240816T145937Z
LAST-MODIFIED:20251214T162614Z
UID:10002981-1879786800-1879794000@staircasehamilton.com
SUMMARY:LOUNGE: Coder Camp
DESCRIPTION:CoderCamp Hamilton is a monthly meetup / mini-conference for local software developers to learn tools\, techniques\, and technologies from one another in a casual and friendly setting. We meet to talk about coding\, software development\, and technology to learn from each other and get better at what we do in the process. \nIt runs the last Thursday of every month. \nMORE INFO: https://www.codercamphamilton.com/
URL:https://staircasehamilton.com/event/lounge-coder-camp/2029-07-26/
LOCATION:The Staircase – Studio Theatre\, 27 Dundurn Street North\, Hamilton\, Ontario\, L8R 3C9\, Canada
ORGANIZER;CN="The Staircase":MAILTO:info@staircasehamilton.com
GEO:43.2631954;-79.8877378
X-APPLE-STRUCTURED-LOCATION;VALUE=URI;X-ADDRESS=The Staircase – Studio Theatre 27 Dundurn Street North Hamilton Ontario L8R 3C9 Canada;X-APPLE-RADIUS=500;X-TITLE=27 Dundurn Street North:geo:-79.8877378,43.2631954
END:VEVENT
BEGIN:VEVENT
DTSTART;TZID=America/Toronto:20290830T190000
DTEND;TZID=America/Toronto:20290830T210000
DTSTAMP:20260424T103022
CREATED:20240816T145937Z
LAST-MODIFIED:20251214T162614Z
UID:10003068-1882810800-1882818000@staircasehamilton.com
SUMMARY:LOUNGE: Coder Camp
DESCRIPTION:CoderCamp Hamilton is a monthly meetup / mini-conference for local software developers to learn tools\, techniques\, and technologies from one another in a casual and friendly setting. We meet to talk about coding\, software development\, and technology to learn from each other and get better at what we do in the process. \nIt runs the last Thursday of every month. \nMORE INFO: https://www.codercamphamilton.com/
URL:https://staircasehamilton.com/event/lounge-coder-camp/2029-08-30/
LOCATION:The Staircase – Studio Theatre\, 27 Dundurn Street North\, Hamilton\, Ontario\, L8R 3C9\, Canada
ORGANIZER;CN="The Staircase":MAILTO:info@staircasehamilton.com
GEO:43.2631954;-79.8877378
X-APPLE-STRUCTURED-LOCATION;VALUE=URI;X-ADDRESS=The Staircase – Studio Theatre 27 Dundurn Street North Hamilton Ontario L8R 3C9 Canada;X-APPLE-RADIUS=500;X-TITLE=27 Dundurn Street North:geo:-79.8877378,43.2631954
END:VEVENT
BEGIN:VEVENT
DTSTART;TZID=America/Toronto:20290927T190000
DTEND;TZID=America/Toronto:20290927T210000
DTSTAMP:20260424T103022
CREATED:20240816T145937Z
LAST-MODIFIED:20251214T162614Z
UID:10003069-1885230000-1885237200@staircasehamilton.com
SUMMARY:LOUNGE: Coder Camp
DESCRIPTION:CoderCamp Hamilton is a monthly meetup / mini-conference for local software developers to learn tools\, techniques\, and technologies from one another in a casual and friendly setting. We meet to talk about coding\, software development\, and technology to learn from each other and get better at what we do in the process. \nIt runs the last Thursday of every month. \nMORE INFO: https://www.codercamphamilton.com/
URL:https://staircasehamilton.com/event/lounge-coder-camp/2029-09-27/
LOCATION:The Staircase – Studio Theatre\, 27 Dundurn Street North\, Hamilton\, Ontario\, L8R 3C9\, Canada
ORGANIZER;CN="The Staircase":MAILTO:info@staircasehamilton.com
GEO:43.2631954;-79.8877378
X-APPLE-STRUCTURED-LOCATION;VALUE=URI;X-ADDRESS=The Staircase – Studio Theatre 27 Dundurn Street North Hamilton Ontario L8R 3C9 Canada;X-APPLE-RADIUS=500;X-TITLE=27 Dundurn Street North:geo:-79.8877378,43.2631954
END:VEVENT
BEGIN:VEVENT
DTSTART;TZID=America/Toronto:20291025T190000
DTEND;TZID=America/Toronto:20291025T210000
DTSTAMP:20260424T103022
CREATED:20240816T145937Z
LAST-MODIFIED:20251214T162614Z
UID:10003070-1887649200-1887656400@staircasehamilton.com
SUMMARY:LOUNGE: Coder Camp
DESCRIPTION:CoderCamp Hamilton is a monthly meetup / mini-conference for local software developers to learn tools\, techniques\, and technologies from one another in a casual and friendly setting. We meet to talk about coding\, software development\, and technology to learn from each other and get better at what we do in the process. \nIt runs the last Thursday of every month. \nMORE INFO: https://www.codercamphamilton.com/
URL:https://staircasehamilton.com/event/lounge-coder-camp/2029-10-25/
LOCATION:The Staircase – Studio Theatre\, 27 Dundurn Street North\, Hamilton\, Ontario\, L8R 3C9\, Canada
ORGANIZER;CN="The Staircase":MAILTO:info@staircasehamilton.com
GEO:43.2631954;-79.8877378
X-APPLE-STRUCTURED-LOCATION;VALUE=URI;X-ADDRESS=The Staircase – Studio Theatre 27 Dundurn Street North Hamilton Ontario L8R 3C9 Canada;X-APPLE-RADIUS=500;X-TITLE=27 Dundurn Street North:geo:-79.8877378,43.2631954
END:VEVENT
BEGIN:VEVENT
DTSTART;TZID=America/Toronto:20291129T190000
DTEND;TZID=America/Toronto:20291129T210000
DTSTAMP:20260424T103022
CREATED:20240816T145937Z
LAST-MODIFIED:20251214T162614Z
UID:10007728-1890673200-1890680400@staircasehamilton.com
SUMMARY:LOUNGE: Coder Camp
DESCRIPTION:CoderCamp Hamilton is a monthly meetup / mini-conference for local software developers to learn tools\, techniques\, and technologies from one another in a casual and friendly setting. We meet to talk about coding\, software development\, and technology to learn from each other and get better at what we do in the process. \nIt runs the last Thursday of every month. \nMORE INFO: https://www.codercamphamilton.com/
URL:https://staircasehamilton.com/event/lounge-coder-camp/2029-11-29/
LOCATION:The Staircase – Studio Theatre\, 27 Dundurn Street North\, Hamilton\, Ontario\, L8R 3C9\, Canada
ORGANIZER;CN="The Staircase":MAILTO:info@staircasehamilton.com
GEO:43.2631954;-79.8877378
X-APPLE-STRUCTURED-LOCATION;VALUE=URI;X-ADDRESS=The Staircase – Studio Theatre 27 Dundurn Street North Hamilton Ontario L8R 3C9 Canada;X-APPLE-RADIUS=500;X-TITLE=27 Dundurn Street North:geo:-79.8877378,43.2631954
END:VEVENT
BEGIN:VEVENT
DTSTART;TZID=America/Toronto:20291227T190000
DTEND;TZID=America/Toronto:20291227T210000
DTSTAMP:20260424T103022
CREATED:20240816T145937Z
LAST-MODIFIED:20251214T162614Z
UID:10007729-1893092400-1893099600@staircasehamilton.com
SUMMARY:LOUNGE: Coder Camp
DESCRIPTION:CoderCamp Hamilton is a monthly meetup / mini-conference for local software developers to learn tools\, techniques\, and technologies from one another in a casual and friendly setting. We meet to talk about coding\, software development\, and technology to learn from each other and get better at what we do in the process. \nIt runs the last Thursday of every month. \nMORE INFO: https://www.codercamphamilton.com/
URL:https://staircasehamilton.com/event/lounge-coder-camp/2029-12-27/
LOCATION:The Staircase – Studio Theatre\, 27 Dundurn Street North\, Hamilton\, Ontario\, L8R 3C9\, Canada
ORGANIZER;CN="The Staircase":MAILTO:info@staircasehamilton.com
GEO:43.2631954;-79.8877378
X-APPLE-STRUCTURED-LOCATION;VALUE=URI;X-ADDRESS=The Staircase – Studio Theatre 27 Dundurn Street North Hamilton Ontario L8R 3C9 Canada;X-APPLE-RADIUS=500;X-TITLE=27 Dundurn Street North:geo:-79.8877378,43.2631954
END:VEVENT
BEGIN:VEVENT
DTSTART;TZID=America/Toronto:20300131T190000
DTEND;TZID=America/Toronto:20300131T210000
DTSTAMP:20260424T103022
CREATED:20240816T145937Z
LAST-MODIFIED:20251214T162614Z
UID:10007730-1896116400-1896123600@staircasehamilton.com
SUMMARY:LOUNGE: Coder Camp
DESCRIPTION:CoderCamp Hamilton is a monthly meetup / mini-conference for local software developers to learn tools\, techniques\, and technologies from one another in a casual and friendly setting. We meet to talk about coding\, software development\, and technology to learn from each other and get better at what we do in the process. \nIt runs the last Thursday of every month. \nMORE INFO: https://www.codercamphamilton.com/
URL:https://staircasehamilton.com/event/lounge-coder-camp/2030-01-31/
LOCATION:The Staircase – Studio Theatre\, 27 Dundurn Street North\, Hamilton\, Ontario\, L8R 3C9\, Canada
ORGANIZER;CN="The Staircase":MAILTO:info@staircasehamilton.com
GEO:43.2631954;-79.8877378
X-APPLE-STRUCTURED-LOCATION;VALUE=URI;X-ADDRESS=The Staircase – Studio Theatre 27 Dundurn Street North Hamilton Ontario L8R 3C9 Canada;X-APPLE-RADIUS=500;X-TITLE=27 Dundurn Street North:geo:-79.8877378,43.2631954
END:VEVENT
BEGIN:VEVENT
DTSTART;TZID=America/Toronto:20300228T190000
DTEND;TZID=America/Toronto:20300228T210000
DTSTAMP:20260424T103022
CREATED:20240816T145937Z
LAST-MODIFIED:20251214T162614Z
UID:10007731-1898535600-1898542800@staircasehamilton.com
SUMMARY:LOUNGE: Coder Camp
DESCRIPTION:CoderCamp Hamilton is a monthly meetup / mini-conference for local software developers to learn tools\, techniques\, and technologies from one another in a casual and friendly setting. We meet to talk about coding\, software development\, and technology to learn from each other and get better at what we do in the process. \nIt runs the last Thursday of every month. \nMORE INFO: https://www.codercamphamilton.com/
URL:https://staircasehamilton.com/event/lounge-coder-camp/2030-02-28/
LOCATION:The Staircase – Studio Theatre\, 27 Dundurn Street North\, Hamilton\, Ontario\, L8R 3C9\, Canada
ORGANIZER;CN="The Staircase":MAILTO:info@staircasehamilton.com
GEO:43.2631954;-79.8877378
X-APPLE-STRUCTURED-LOCATION;VALUE=URI;X-ADDRESS=The Staircase – Studio Theatre 27 Dundurn Street North Hamilton Ontario L8R 3C9 Canada;X-APPLE-RADIUS=500;X-TITLE=27 Dundurn Street North:geo:-79.8877378,43.2631954
END:VEVENT
BEGIN:VEVENT
DTSTART;TZID=America/Toronto:20300328T190000
DTEND;TZID=America/Toronto:20300328T210000
DTSTAMP:20260424T103022
CREATED:20240816T145937Z
LAST-MODIFIED:20251214T162614Z
UID:10007732-1900954800-1900962000@staircasehamilton.com
SUMMARY:LOUNGE: Coder Camp
DESCRIPTION:CoderCamp Hamilton is a monthly meetup / mini-conference for local software developers to learn tools\, techniques\, and technologies from one another in a casual and friendly setting. We meet to talk about coding\, software development\, and technology to learn from each other and get better at what we do in the process. \nIt runs the last Thursday of every month. \nMORE INFO: https://www.codercamphamilton.com/
URL:https://staircasehamilton.com/event/lounge-coder-camp/2030-03-28/
LOCATION:The Staircase – Studio Theatre\, 27 Dundurn Street North\, Hamilton\, Ontario\, L8R 3C9\, Canada
ORGANIZER;CN="The Staircase":MAILTO:info@staircasehamilton.com
GEO:43.2631954;-79.8877378
X-APPLE-STRUCTURED-LOCATION;VALUE=URI;X-ADDRESS=The Staircase – Studio Theatre 27 Dundurn Street North Hamilton Ontario L8R 3C9 Canada;X-APPLE-RADIUS=500;X-TITLE=27 Dundurn Street North:geo:-79.8877378,43.2631954
END:VEVENT
BEGIN:VEVENT
DTSTART;TZID=America/Toronto:20300425T190000
DTEND;TZID=America/Toronto:20300425T210000
DTSTAMP:20260424T103022
CREATED:20240816T145937Z
LAST-MODIFIED:20251214T162614Z
UID:10007733-1903374000-1903381200@staircasehamilton.com
SUMMARY:LOUNGE: Coder Camp
DESCRIPTION:CoderCamp Hamilton is a monthly meetup / mini-conference for local software developers to learn tools\, techniques\, and technologies from one another in a casual and friendly setting. We meet to talk about coding\, software development\, and technology to learn from each other and get better at what we do in the process. \nIt runs the last Thursday of every month. \nMORE INFO: https://www.codercamphamilton.com/
URL:https://staircasehamilton.com/event/lounge-coder-camp/2030-04-25/
LOCATION:The Staircase – Studio Theatre\, 27 Dundurn Street North\, Hamilton\, Ontario\, L8R 3C9\, Canada
ORGANIZER;CN="The Staircase":MAILTO:info@staircasehamilton.com
GEO:43.2631954;-79.8877378
X-APPLE-STRUCTURED-LOCATION;VALUE=URI;X-ADDRESS=The Staircase – Studio Theatre 27 Dundurn Street North Hamilton Ontario L8R 3C9 Canada;X-APPLE-RADIUS=500;X-TITLE=27 Dundurn Street North:geo:-79.8877378,43.2631954
END:VEVENT
BEGIN:VEVENT
DTSTART;TZID=America/Toronto:20300530T190000
DTEND;TZID=America/Toronto:20300530T210000
DTSTAMP:20260424T103022
CREATED:20240816T145937Z
LAST-MODIFIED:20251214T162614Z
UID:10007734-1906398000-1906405200@staircasehamilton.com
SUMMARY:LOUNGE: Coder Camp
DESCRIPTION:CoderCamp Hamilton is a monthly meetup / mini-conference for local software developers to learn tools\, techniques\, and technologies from one another in a casual and friendly setting. We meet to talk about coding\, software development\, and technology to learn from each other and get better at what we do in the process. \nIt runs the last Thursday of every month. \nMORE INFO: https://www.codercamphamilton.com/
URL:https://staircasehamilton.com/event/lounge-coder-camp/2030-05-30/
LOCATION:The Staircase – Studio Theatre\, 27 Dundurn Street North\, Hamilton\, Ontario\, L8R 3C9\, Canada
ORGANIZER;CN="The Staircase":MAILTO:info@staircasehamilton.com
GEO:43.2631954;-79.8877378
X-APPLE-STRUCTURED-LOCATION;VALUE=URI;X-ADDRESS=The Staircase – Studio Theatre 27 Dundurn Street North Hamilton Ontario L8R 3C9 Canada;X-APPLE-RADIUS=500;X-TITLE=27 Dundurn Street North:geo:-79.8877378,43.2631954
END:VEVENT
BEGIN:VEVENT
DTSTART;TZID=America/Toronto:20300627T190000
DTEND;TZID=America/Toronto:20300627T210000
DTSTAMP:20260424T103022
CREATED:20240816T145937Z
LAST-MODIFIED:20251214T162614Z
UID:10007735-1908817200-1908824400@staircasehamilton.com
SUMMARY:LOUNGE: Coder Camp
DESCRIPTION:CoderCamp Hamilton is a monthly meetup / mini-conference for local software developers to learn tools\, techniques\, and technologies from one another in a casual and friendly setting. We meet to talk about coding\, software development\, and technology to learn from each other and get better at what we do in the process. \nIt runs the last Thursday of every month. \nMORE INFO: https://www.codercamphamilton.com/
URL:https://staircasehamilton.com/event/lounge-coder-camp/2030-06-27/
LOCATION:The Staircase – Studio Theatre\, 27 Dundurn Street North\, Hamilton\, Ontario\, L8R 3C9\, Canada
ORGANIZER;CN="The Staircase":MAILTO:info@staircasehamilton.com
GEO:43.2631954;-79.8877378
X-APPLE-STRUCTURED-LOCATION;VALUE=URI;X-ADDRESS=The Staircase – Studio Theatre 27 Dundurn Street North Hamilton Ontario L8R 3C9 Canada;X-APPLE-RADIUS=500;X-TITLE=27 Dundurn Street North:geo:-79.8877378,43.2631954
END:VEVENT
BEGIN:VEVENT
DTSTART;TZID=America/Toronto:20300725T190000
DTEND;TZID=America/Toronto:20300725T210000
DTSTAMP:20260424T103022
CREATED:20240816T145937Z
LAST-MODIFIED:20251214T162614Z
UID:10007736-1911236400-1911243600@staircasehamilton.com
SUMMARY:LOUNGE: Coder Camp
DESCRIPTION:CoderCamp Hamilton is a monthly meetup / mini-conference for local software developers to learn tools\, techniques\, and technologies from one another in a casual and friendly setting. We meet to talk about coding\, software development\, and technology to learn from each other and get better at what we do in the process. \nIt runs the last Thursday of every month. \nMORE INFO: https://www.codercamphamilton.com/
URL:https://staircasehamilton.com/event/lounge-coder-camp/2030-07-25/
LOCATION:The Staircase – Studio Theatre\, 27 Dundurn Street North\, Hamilton\, Ontario\, L8R 3C9\, Canada
ORGANIZER;CN="The Staircase":MAILTO:info@staircasehamilton.com
GEO:43.2631954;-79.8877378
X-APPLE-STRUCTURED-LOCATION;VALUE=URI;X-ADDRESS=The Staircase – Studio Theatre 27 Dundurn Street North Hamilton Ontario L8R 3C9 Canada;X-APPLE-RADIUS=500;X-TITLE=27 Dundurn Street North:geo:-79.8877378,43.2631954
END:VEVENT
BEGIN:VEVENT
DTSTART;TZID=America/Toronto:20300829T190000
DTEND;TZID=America/Toronto:20300829T210000
DTSTAMP:20260424T103022
CREATED:20240816T145937Z
LAST-MODIFIED:20251214T162614Z
UID:10007771-1914260400-1914267600@staircasehamilton.com
SUMMARY:LOUNGE: Coder Camp
DESCRIPTION:CoderCamp Hamilton is a monthly meetup / mini-conference for local software developers to learn tools\, techniques\, and technologies from one another in a casual and friendly setting. We meet to talk about coding\, software development\, and technology to learn from each other and get better at what we do in the process. \nIt runs the last Thursday of every month. \nMORE INFO: https://www.codercamphamilton.com/
URL:https://staircasehamilton.com/event/lounge-coder-camp/2030-08-29/
LOCATION:The Staircase – Studio Theatre\, 27 Dundurn Street North\, Hamilton\, Ontario\, L8R 3C9\, Canada
ORGANIZER;CN="The Staircase":MAILTO:info@staircasehamilton.com
GEO:43.2631954;-79.8877378
X-APPLE-STRUCTURED-LOCATION;VALUE=URI;X-ADDRESS=The Staircase – Studio Theatre 27 Dundurn Street North Hamilton Ontario L8R 3C9 Canada;X-APPLE-RADIUS=500;X-TITLE=27 Dundurn Street North:geo:-79.8877378,43.2631954
END:VEVENT
BEGIN:VEVENT
DTSTART;TZID=America/Toronto:20300926T190000
DTEND;TZID=America/Toronto:20300926T210000
DTSTAMP:20260424T103022
CREATED:20240816T145937Z
LAST-MODIFIED:20251214T162614Z
UID:10007939-1916679600-1916686800@staircasehamilton.com
SUMMARY:LOUNGE: Coder Camp
DESCRIPTION:CoderCamp Hamilton is a monthly meetup / mini-conference for local software developers to learn tools\, techniques\, and technologies from one another in a casual and friendly setting. We meet to talk about coding\, software development\, and technology to learn from each other and get better at what we do in the process. \nIt runs the last Thursday of every month. \nMORE INFO: https://www.codercamphamilton.com/
URL:https://staircasehamilton.com/event/lounge-coder-camp/2030-09-26/
LOCATION:The Staircase – Studio Theatre\, 27 Dundurn Street North\, Hamilton\, Ontario\, L8R 3C9\, Canada
ORGANIZER;CN="The Staircase":MAILTO:info@staircasehamilton.com
GEO:43.2631954;-79.8877378
X-APPLE-STRUCTURED-LOCATION;VALUE=URI;X-ADDRESS=The Staircase – Studio Theatre 27 Dundurn Street North Hamilton Ontario L8R 3C9 Canada;X-APPLE-RADIUS=500;X-TITLE=27 Dundurn Street North:geo:-79.8877378,43.2631954
END:VEVENT
BEGIN:VEVENT
DTSTART;TZID=America/Toronto:20301031T190000
DTEND;TZID=America/Toronto:20301031T210000
DTSTAMP:20260424T103022
CREATED:20240816T145937Z
LAST-MODIFIED:20251214T162614Z
UID:10007940-1919703600-1919710800@staircasehamilton.com
SUMMARY:LOUNGE: Coder Camp
DESCRIPTION:CoderCamp Hamilton is a monthly meetup / mini-conference for local software developers to learn tools\, techniques\, and technologies from one another in a casual and friendly setting. We meet to talk about coding\, software development\, and technology to learn from each other and get better at what we do in the process. \nIt runs the last Thursday of every month. \nMORE INFO: https://www.codercamphamilton.com/
URL:https://staircasehamilton.com/event/lounge-coder-camp/2030-10-31/
LOCATION:The Staircase – Studio Theatre\, 27 Dundurn Street North\, Hamilton\, Ontario\, L8R 3C9\, Canada
ORGANIZER;CN="The Staircase":MAILTO:info@staircasehamilton.com
GEO:43.2631954;-79.8877378
X-APPLE-STRUCTURED-LOCATION;VALUE=URI;X-ADDRESS=The Staircase – Studio Theatre 27 Dundurn Street North Hamilton Ontario L8R 3C9 Canada;X-APPLE-RADIUS=500;X-TITLE=27 Dundurn Street North:geo:-79.8877378,43.2631954
END:VEVENT
BEGIN:VEVENT
DTSTART;TZID=America/Toronto:20301128T190000
DTEND;TZID=America/Toronto:20301128T210000
DTSTAMP:20260424T103022
CREATED:20240816T145937Z
LAST-MODIFIED:20251214T162614Z
UID:10007941-1922122800-1922130000@staircasehamilton.com
SUMMARY:LOUNGE: Coder Camp
DESCRIPTION:CoderCamp Hamilton is a monthly meetup / mini-conference for local software developers to learn tools\, techniques\, and technologies from one another in a casual and friendly setting. We meet to talk about coding\, software development\, and technology to learn from each other and get better at what we do in the process. \nIt runs the last Thursday of every month. \nMORE INFO: https://www.codercamphamilton.com/
URL:https://staircasehamilton.com/event/lounge-coder-camp/2030-11-28/
LOCATION:The Staircase – Studio Theatre\, 27 Dundurn Street North\, Hamilton\, Ontario\, L8R 3C9\, Canada
ORGANIZER;CN="The Staircase":MAILTO:info@staircasehamilton.com
GEO:43.2631954;-79.8877378
X-APPLE-STRUCTURED-LOCATION;VALUE=URI;X-ADDRESS=The Staircase – Studio Theatre 27 Dundurn Street North Hamilton Ontario L8R 3C9 Canada;X-APPLE-RADIUS=500;X-TITLE=27 Dundurn Street North:geo:-79.8877378,43.2631954
END:VEVENT
END:VCALENDAR